BEGIN:VCALENDAR
VERSION:2.0
PRODID:-//ChamberMaster//Event Calendar 2.0//EN
METHOD:PUBLISH
X-PUBLISHED-TTL:P3D
REFRESH-INTERVAL:P3D
CALSCALE:GREGORIAN
BEGIN:VEVENT
DTSTART;VALUE=DATE:20200528
DTEND;VALUE=DATE:20200530
TRANSP:TRANSPARENT
X-MICROSOFT-CDO-ALLDAYEVENT:TRUE
SUMMARY:UDOT Partnering Training (May 28-29)
DESCRIPTION:
X-ALT-DESC;FMTTYPE=text/html:
LOCATION:AGC Headquarters 2207 South 1070 West Salt Lake City UT 84119
UID:e.3104.14075
SEQUENCE:3
DTSTAMP:20260421T164635Z
URL:http://agc-utah.chambermaster.com/events/details/udot-partnering-training-may-28-29-14075
END:VEVENT

END:VCALENDAR
